BEGIN:VCALENDAR
VERSION:2.0
PRODID:-//www.grsinc.org//NONSGML kigkonsult.se iCalcreator 2.30.10//
CALSCALE:GREGORIAN
METHOD:PUBLISH
UID:4e0f4a3a-2a0c-4c54-b996-a491e570e457
X-WR-CALDESC:
X-WR-RELCALID:c62598c73178a406bc87b074fbab08d2
X-WR-TIMEZONE:America/New_York
BEGIN:VTIMEZONE
TZID:America/New_York
BEGIN:STANDARD
TZNAME:EST
DTSTART:20281105T020000
TZOFFSETFROM:-0400
TZOFFSETTO:-0500
RDATE:20291104T020000
RDATE:20301103T020000
END:STANDARD
BEGIN:DAYLIGHT
TZNAME:EDT
DTSTART:20290311T020000
TZOFFSETFROM:-0500
TZOFFSETTO:-0400
RDATE:20300310T020000
END:DAYLIGHT
END:VTIMEZONE
BEGIN:VEVENT
UID:a1ab53ad-8516-48d7-b582-a71b8e04baf1
DTSTAMP:20260423T143941Z
DESCRIPTION:
DTSTART;TZID=America/New_York:20290704T000000
DTEND;TZID=America/New_York:20290704T235900
LOCATION:
SUMMARY:Independence Day
END:VEVENT
END:VCALENDAR
