BEGIN:VCALENDAR
VERSION:2.0
PRODID:-//www.grsinc.org//NONSGML kigkonsult.se iCalcreator 2.30.10//
CALSCALE:GREGORIAN
METHOD:PUBLISH
UID:99fbdc69-9525-44f6-9f03-d527b3702910
X-WR-CALDESC:
X-WR-RELCALID:d4c027905a76ea88d691b29699762c6b
X-WR-TIMEZONE:America/New_York
BEGIN:VTIMEZONE
TZID:America/New_York
BEGIN:STANDARD
TZNAME:EST
DTSTART:20271107T020000
TZOFFSETFROM:-0400
TZOFFSETTO:-0500
RDATE:20281105T020000
RDATE:20291104T020000
END:STANDARD
BEGIN:DAYLIGHT
TZNAME:EDT
DTSTART:20280312T020000
TZOFFSETFROM:-0500
TZOFFSETTO:-0400
RDATE:20290311T020000
END:DAYLIGHT
END:VTIMEZONE
BEGIN:VEVENT
UID:da1d720f-c8fd-4747-8c18-8ea4c36be250
DTSTAMP:20260422T203915Z
DESCRIPTION:
DTSTART;TZID=America/New_York:20280704T000000
DTEND;TZID=America/New_York:20280704T235900
LOCATION:
SUMMARY:Independence Day
END:VEVENT
END:VCALENDAR
