BEGIN:VCALENDAR
VERSION:2.0
PRODID:-//www.grsinc.org//NONSGML kigkonsult.se iCalcreator 2.30.10//
CALSCALE:GREGORIAN
METHOD:PUBLISH
UID:1513f9d3-aabe-4a0f-99b7-57bb83d17881
X-WR-CALDESC:
X-WR-RELCALID:265a7b5f4461a31e27932bc73bbdf460
X-WR-TIMEZONE:America/New_York
BEGIN:VTIMEZONE
TZID:America/New_York
BEGIN:STANDARD
TZNAME:EST
DTSTART:20241103T020000
TZOFFSETFROM:-0400
TZOFFSETTO:-0500
RDATE:20251102T020000
RDATE:20261101T020000
END:STANDARD
BEGIN:DAYLIGHT
TZNAME:EDT
DTSTART:20250309T020000
TZOFFSETFROM:-0500
TZOFFSETTO:-0400
RDATE:20260308T020000
END:DAYLIGHT
END:VTIMEZONE
BEGIN:VEVENT
UID:3ec257dd-f11f-4cf1-ad6c-bf684b43e135
DTSTAMP:20260421T083147Z
DESCRIPTION:
DTSTART;TZID=America/New_York:20250704T000000
DTEND;TZID=America/New_York:20250704T235900
LOCATION:
SUMMARY:Independence Day
END:VEVENT
END:VCALENDAR
