BEGIN:VCALENDAR
VERSION:2.0
PRODID:-//www.grsinc.org//NONSGML kigkonsult.se iCalcreator 2.30.10//
CALSCALE:GREGORIAN
METHOD:PUBLISH
UID:605875e0-1606-4817-87b2-26659e78c13e
X-WR-CALDESC:What will you get for your purchase of a ticket to GRS 50th an
 niversary Viva Las Vegas event:\n\n-Entrance into the main ballroom at the
  Gastonia Conference Center where the event will take place\n-$10\,000 “fu
 nny money” poker chip that can be used to play any of the Las Vegas style 
 authentic gaming tables (blackjack\, roulette\, craps and poker).  At the 
 end of the night you will exchange your “funny money” for raffle tickets t
 o win prizes!  The more “funny money” you have\, the better your chances o
 f winning!  All gaming tables staffed by trained dealers\n-Buffet of hors 
 d’oeuvres prepared and served by the staff at the Gastonia Conference Cent
 er along with a cash bar\n-Ability to bid and participate in a silent auct
 ion for many valuable items including trips\, memorabilia\, wine baskets a
 nd many more\n-A raffle ticket giving you the chance to win a door prize a
 t the conclusion of the event.  No gambling necessary!\n-Ability to partic
 ipate in other raffle floor events including lottery boards to give you ad
 ditional opportunities to win prizes!\n-Opportunity to celebrate Gaston Re
 sidential Services’ 50th anniversary of serving IDD adults in Gaston Count
 y and Making a Good Community Better!
X-WR-RELCALID:cafd858c46a0c508c0d5093be6cc3447
X-WR-TIMEZONE:America/New_York
BEGIN:VTIMEZONE
TZID:America/New_York
BEGIN:STANDARD
TZNAME:EST
DTSTART:20241103T020000
TZOFFSETFROM:-0400
TZOFFSETTO:-0500
RDATE:20251102T020000
RDATE:20261101T020000
END:STANDARD
BEGIN:DAYLIGHT
TZNAME:EDT
DTSTART:20250309T020000
TZOFFSETFROM:-0500
TZOFFSETTO:-0400
RDATE:20260308T020000
END:DAYLIGHT
END:VTIMEZONE
BEGIN:VEVENT
UID:cf438779-6235-4d81-bcc1-5a597d063725
DTSTAMP:20260421T112748Z
DESCRIPTION:What will you get for your purchase of a ticket to GRS 50th ann
 iversary Viva Las Vegas event:\n\n-Entrance into the main ballroom at the 
 Gastonia Conference Center where the event will take place\n-$10\,000 “fun
 ny money” poker chip that can be used to play any of the Las Vegas style a
 uthentic gaming tables (blackjack\, roulette\, craps and poker).  At the e
 nd of the night you will exchange your “funny money” for raffle tickets to
  win prizes!  The more “funny money” you have\, the better your chances of
  winning!  All gaming tables staffed by trained dealers\n-Buffet of hors d
 ’oeuvres prepared and served by the staff at the Gastonia Conference Cente
 r along with a cash bar\n-Ability to bid and participate in a silent aucti
 on for many valuable items including trips\, memorabilia\, wine baskets an
 d many more\n-A raffle ticket giving you the chance to win a door prize at
  the conclusion of the event.  No gambling necessary!\n-Ability to partici
 pate in other raffle floor events including lottery boards to give you add
 itional opportunities to win prizes!\n-Opportunity to celebrate Gaston Res
 idential Services’ 50th anniversary of serving IDD adults in Gaston County
  and Making a Good Community Better!
DTSTART;TZID=America/New_York:20250516T190000
DTEND;TZID=America/New_York:20250516T230000
LOCATION:145 Dr. Martin Luther King Jr. Way\, Gastonia \, NC 28052 US
SUMMARY:VIVA LAS VEGAS TICKET PURCHASE
END:VEVENT
END:VCALENDAR
