BEGIN:VCALENDAR
VERSION:2.0
PRODID:-//www.grsinc.org//NONSGML kigkonsult.se iCalcreator 2.30.10//
CALSCALE:GREGORIAN
METHOD:PUBLISH
UID:e038bf48-cefa-4695-b55e-de65516ae975
X-WR-CALDESC:
X-WR-RELCALID:4eaf2d20228da0ca621c52dcf0fe29e0
X-WR-TIMEZONE:America/New_York
BEGIN:VTIMEZONE
TZID:America/New_York
BEGIN:STANDARD
TZNAME:EST
DTSTART:20231105T020000
TZOFFSETFROM:-0400
TZOFFSETTO:-0500
RDATE:20241103T020000
RDATE:20251102T020000
END:STANDARD
BEGIN:DAYLIGHT
TZNAME:EDT
DTSTART:20240310T020000
TZOFFSETFROM:-0500
TZOFFSETTO:-0400
RDATE:20250309T020000
END:DAYLIGHT
END:VTIMEZONE
BEGIN:VEVENT
UID:1c4634bd-071e-4f95-bb0e-aad3781ca890
DTSTAMP:20260422T031414Z
DESCRIPTION:
DTSTART;TZID=America/New_York:20240704T000000
DTEND;TZID=America/New_York:20240704T235900
LOCATION:
SUMMARY:Independence Day
END:VEVENT
END:VCALENDAR
