BEGIN:VCALENDAR
VERSION:2.0
PRODID:-//www.grsinc.org//NONSGML kigkonsult.se iCalcreator 2.30.10//
CALSCALE:GREGORIAN
METHOD:PUBLISH
UID:2bf38b72-1a59-4414-b7bc-96c1238fa9de
X-WR-CALDESC:
X-WR-RELCALID:08e88630b328742e0de3435280fd1283
X-WR-TIMEZONE:America/New_York
BEGIN:VTIMEZONE
TZID:America/New_York
BEGIN:STANDARD
TZNAME:EST
DTSTART:20221106T020000
TZOFFSETFROM:-0400
TZOFFSETTO:-0500
RDATE:20231105T020000
RDATE:20241103T020000
END:STANDARD
BEGIN:DAYLIGHT
TZNAME:EDT
DTSTART:20230312T020000
TZOFFSETFROM:-0500
TZOFFSETTO:-0400
RDATE:20240310T020000
END:DAYLIGHT
END:VTIMEZONE
BEGIN:VEVENT
UID:3b261a7c-e77d-447e-a366-9af2ccb7ad2a
DTSTAMP:20260422T203926Z
DESCRIPTION:
DTSTART;TZID=America/New_York:20230704T000000
DTEND;TZID=America/New_York:20230704T235900
LOCATION:
SUMMARY:Independence Day
END:VEVENT
END:VCALENDAR
